BEGIN:VCALENDAR
VERSION:2.0
PRODID:-//Building Decarbonization Coalition - ECPv6.3.3.1//NONSGML v1.0//EN
CALSCALE:GREGORIAN
METHOD:PUBLISH
X-ORIGINAL-URL:https://buildingdecarb.org
X-WR-CALDESC:Events for Building Decarbonization Coalition
REFRESH-INTERVAL;VALUE=DURATION:PT1H
X-Robots-Tag:noindex
X-PUBLISHED-TTL:PT1H
BEGIN:VTIMEZONE
TZID:America/Los_Angeles
BEGIN:DAYLIGHT
TZOFFSETFROM:-0800
TZOFFSETTO:-0700
TZNAME:PDT
DTSTART:20240310T100000
END:DAYLIGHT
BEGIN:STANDARD
TZOFFSETFROM:-0700
TZOFFSETTO:-0800
TZNAME:PST
DTSTART:20241103T090000
END:STANDARD
END:VTIMEZONE
BEGIN:VEVENT
DTSTART;TZID=America/Los_Angeles:20240718T100000
DTEND;TZID=America/Los_Angeles:20240718T110000
DTSTAMP:20260423T154806
CREATED:20240628T164036Z
LAST-MODIFIED:20240628T194756Z
UID:10000044-1721296800-1721300400@buildingdecarb.org
SUMMARY:BDC Presents: The Multi-State Plan to Power a Surge in Heat Pump Adoption
DESCRIPTION:Earlier this year\, nine states plus Washington\, DC\, signed an agreement to meet ambitious heat pump targets and reduce emissions from buildings. Hear from Emily Levin of the Northeast States for Coordinated Air Use Management (NESCAUM)\, who drafted the agreement\, on how it came to be and what the states are now doing to meet the commitment. Also hear from Zach Berzolla of the Maryland Department of the Environment about the specific steps his state is taking to accelerate heat pump deployment and decarbonize buildings.
URL:https://buildingdecarb.org/event/bdc-presents-the-multi-state-plan-to-power-a-surge-in-heat-pump-adoption
CATEGORIES:BDC Presents
ATTACH;FMTTYPE=image/jpeg:https://buildingdecarb.org/wp-content/uploads/BDC-Presents-July-2024-1.jpg
LOCATION:https://buildingdecarb-org.zoom.us/webinar/register/WN_eC9uOHuESwGQ0mRdU_NuRA#/registration
END:VEVENT
END:VCALENDAR