BEGIN:VCALENDAR
VERSION:2.0
PRODID:-//Building Decarbonization Coalition - ECPv6.3.3.1//NONSGML v1.0//EN
CALSCALE:GREGORIAN
METHOD:PUBLISH
X-WR-CALNAME:Building Decarbonization Coalition
X-ORIGINAL-URL:https://buildingdecarb.org
X-WR-CALDESC:Events for Building Decarbonization Coalition
REFRESH-INTERVAL;VALUE=DURATION:PT1H
X-Robots-Tag:noindex
X-PUBLISHED-TTL:PT1H
BEGIN:VTIMEZONE
TZID:America/Los_Angeles
BEGIN:DAYLIGHT
TZOFFSETFROM:-0800
TZOFFSETTO:-0700
TZNAME:PDT
DTSTART:20240310T100000
END:DAYLIGHT
BEGIN:STANDARD
TZOFFSETFROM:-0700
TZOFFSETTO:-0800
TZNAME:PST
DTSTART:20241103T090000
END:STANDARD
END:VTIMEZONE
BEGIN:VEVENT
DTSTART;TZID=America/Los_Angeles:20240827T160000
DTEND;TZID=America/Los_Angeles:20240827T190000
DTSTAMP:20260422T125110
CREATED:20240730T185756Z
LAST-MODIFIED:20240813T194730Z
UID:10000050-1724774400-1724785200@buildingdecarb.org
SUMMARY:You’re Invited: Home Electrification Fair
DESCRIPTION:Want to lower your utility bills\, get year-round comfort\, improve indoor air quality\, and reduce climate pollution?\n\nCome to the Home Electrification Fair at El Centro de la Raza to learn about electric appliances and incentive programs that can help you do just that. You can check out electric appliance options for space heating and cooling\, water heating\, clothes drying\, and cooking. You’ll also have the opportunity to talk to manufacturers and contractors about your projects.\n\nThe event will have informational booths for you to learn about programs offered by the city\, county\, utilities\, and nonprofits to help you electrify your home. Local chefs will also show you how to cook your favorite dishes with electric induction stoves and offer food tastings. Plus you’ll have the chance to win an electric portable induction cooktop and new cookware.\n\nJoin us on Tuesday\, Aug. 27 from 4 to 7 p.m. at El Centro de la Raza in the Centilia Cultural Center (2524 16th Ave. South\, Seattle\, WA 98144) – on Beacon Hill just off the light rail station.\n\nRegister for the event today!\n\nThis event is brought to you by the City of Seattle\, King County\, The Switch Is On\, and El Centro de la Raza.
URL:https://buildingdecarb.org/event/wa-home-electrification-fair
LOCATION:El Centro de la Raza\, Centilia Cultural Center\, 2524 16th Ave. South\, Seattle\, WA\, 98144\, United States
CATEGORIES:Invite Only
ATTACH;FMTTYPE=image/png:https://buildingdecarb.org/wp-content/uploads/SIO-Event-Banner-1.png
END:VEVENT
END:VCALENDAR