BEGIN:VCALENDAR
VERSION:2.0
PRODID:-//Building Decarbonization Coalition - ECPv6.3.3.1//NONSGML v1.0//EN
CALSCALE:GREGORIAN
METHOD:PUBLISH
X-WR-CALNAME:Building Decarbonization Coalition
X-ORIGINAL-URL:https://buildingdecarb.org
X-WR-CALDESC:Events for Building Decarbonization Coalition
REFRESH-INTERVAL;VALUE=DURATION:PT1H
X-Robots-Tag:noindex
X-PUBLISHED-TTL:PT1H
BEGIN:VTIMEZONE
TZID:America/Los_Angeles
BEGIN:DAYLIGHT
TZOFFSETFROM:-0800
TZOFFSETTO:-0700
TZNAME:PDT
DTSTART:20240310T100000
END:DAYLIGHT
BEGIN:STANDARD
TZOFFSETFROM:-0700
TZOFFSETTO:-0800
TZNAME:PST
DTSTART:20241103T090000
END:STANDARD
END:VTIMEZONE
BEGIN:VEVENT
DTSTART;TZID=America/Los_Angeles:20240829T100000
DTEND;TZID=America/Los_Angeles:20240829T110000
DTSTAMP:20260422T195505
CREATED:20240812T145519Z
LAST-MODIFIED:20240813T183225Z
UID:10000053-1724925600-1724929200@buildingdecarb.org
SUMMARY:BDC Presents: Building Decarbonization Meets Water Conservation
DESCRIPTION:Join us to discover how thermal energy networks (TENs) combine building decarbonization with water conservation. BDC’s Ashley Besic will unveil findings from our new brief\, Building Decarbonization Meets Water Conservation: The Potential of Thermal Energy Networks to Cool Buildings & Save Water. As heat waves increase and droughts persist\, more buildings need to stay cool for longer periods of time. You’ll learn how TENs can save millions of gallons of water compared to water-intensive evaporative cooling systems – and why now is the perfect moment to deploy them widely.
URL:https://buildingdecarb.org/event/bdc-presents-building-decarbonization-meets-water-conservation
CATEGORIES:BDC Presents
ATTACH;FMTTYPE=image/png:https://buildingdecarb.org/wp-content/uploads/Water-Smart-Buildings.png
LOCATION:https://buildingdecarb-org.zoom.us/webinar/register/WN_KIE-boJ5RvSXluI4yekmvA?_ics=1722634018457&irclickid=~fjnjegc-~1YRSPLFEFLRIzAwBvABxCxuonqyzoplidb4UNGCuli-&_gl=1*mb9ovr*_gcl_aw*R0NMLjE3MjEwNTIwNjIuQ2owS0NRandrZE8wQmhEeEFSSXNBTmtOY3JlcEZhSjBmMm5EVlJhZ1hBejZpaVlhSV80N0ZHemprVkdJTWNRekxGT1d1X2U1dU9BNV83QWFBbHZvRUFMd193Y0I.*_gcl_au*MTA5MDA5Mzc5NC4xNzIxMTU3NTA5*_ga*NzQzMjM5MTMzLjE2OTQ1MjIwODQ.*_ga_L8TBF28DDX*MTcyMjYzMzcxMC4zNS4xLjE3MjI2MzQwMTkuMC4wLjA.&_ga=2.222712216.2030454020.1722633711-743239133.1694522084&_gac=1.60153311.1721052052.Cj0KCQjwkdO0BhDxARIsANkNcrepFaJ0f2nDVRagXAz6iiYaI_47FGzjkVGIMcQzLFOWu_e5uOA5_7AaAlvoEALw_wcB#/registration
END:VEVENT
END:VCALENDAR