BEGIN:VCALENDAR
VERSION:2.0
PRODID:-//Building Decarbonization Coalition - ECPv6.3.3.1//NONSGML v1.0//EN
CALSCALE:GREGORIAN
METHOD:PUBLISH
X-ORIGINAL-URL:https://buildingdecarb.org
X-WR-CALDESC:Events for Building Decarbonization Coalition
REFRESH-INTERVAL;VALUE=DURATION:PT1H
X-Robots-Tag:noindex
X-PUBLISHED-TTL:PT1H
BEGIN:VTIMEZONE
TZID:America/New_York
BEGIN:DAYLIGHT
TZOFFSETFROM:-0500
TZOFFSETTO:-0400
TZNAME:EDT
DTSTART:20240310T070000
END:DAYLIGHT
BEGIN:STANDARD
TZOFFSETFROM:-0400
TZOFFSETTO:-0500
TZNAME:EST
DTSTART:20241103T060000
END:STANDARD
END:VTIMEZONE
BEGIN:VEVENT
DTSTART;TZID=America/New_York:20240924T150000
DTEND;TZID=America/New_York:20240924T163000
DTSTAMP:20260424T152719
CREATED:20240827T205035Z
LAST-MODIFIED:20240827T205035Z
UID:10000057-1727190000-1727195400@buildingdecarb.org
SUMMARY:NY Climate week 2024
DESCRIPTION:To meet federal and state climate goals\, we must upgrade how we heat and cool buildings. Thermal energy networks (TENs) offer a utility-scale option to bring buildings into a cleaner 21st century. These infrastructure projects support a skilled workforce and provide utilities\, investors\, and ratepayers with sustainable\, long-term investments. \nInnovative policies in New York\, Massachusetts\, and beyond are bringing TENs to the forefront as a scalable decarbonization solution. This panel\, hosted by the Interfaith Center on Corporate Responsibility and the Building Decarbonization Coalition\, will explore the policy and investment momentum behind TENs. We’ll hear from diverse stakeholders and discuss future challenges and opportunities\, with ample time for Q&A to engage directly with the experts.
URL:https://buildingdecarb.org/event/ny-climate-week-2024
LOCATION:Building Energy Exchange (BE-Ex)\, 31 Chambers Street\, Suite 608\, New York\, NY\, 10007\, United States
ATTACH;FMTTYPE=image/jpeg:https://buildingdecarb.org/wp-content/uploads/CWNYC-logo-RGB-black-red-landscape.jpg
END:VEVENT
END:VCALENDAR