BEGIN:VCALENDAR
VERSION:2.0
PRODID:-//Building Decarbonization Coalition - ECPv6.3.3.1//NONSGML v1.0//EN
CALSCALE:GREGORIAN
METHOD:PUBLISH
X-WR-CALNAME:Building Decarbonization Coalition
X-ORIGINAL-URL:https://buildingdecarb.org
X-WR-CALDESC:Events for Building Decarbonization Coalition
REFRESH-INTERVAL;VALUE=DURATION:PT1H
X-Robots-Tag:noindex
X-PUBLISHED-TTL:PT1H
BEGIN:VTIMEZONE
TZID:America/Los_Angeles
BEGIN:DAYLIGHT
TZOFFSETFROM:-0800
TZOFFSETTO:-0700
TZNAME:PDT
DTSTART:20240310T100000
END:DAYLIGHT
BEGIN:STANDARD
TZOFFSETFROM:-0700
TZOFFSETTO:-0800
TZNAME:PST
DTSTART:20241103T090000
END:STANDARD
END:VTIMEZONE
BEGIN:VEVENT
DTSTART;TZID=America/Los_Angeles:20240926T100000
DTEND;TZID=America/Los_Angeles:20240926T113000
DTSTAMP:20260422T211938
CREATED:20240816T195836Z
LAST-MODIFIED:20240819T212502Z
UID:10000055-1727344800-1727350200@buildingdecarb.org
SUMMARY:BDC Presents: The Future of Gas
DESCRIPTION:Since 2019\, the “future of gas” has evolved from a niche research topic to a fully fledged regulatory framework. To call into question the future of natural–or methane–gas is to acknowledge that we are in the midst of an energy transition that requires an evolution of “business as usual” policies and procedures. The regulatory frameworks that have served our mostly separate electric and gas utilities for a century are now confronting the contradiction between continuous growth and emission reduction mandates. In the past five years\, dozens of “Future of Gas” proceedings\, policies\, and whitepapers have sought to address the regulatory\, economic\, and equity challenges of managing the transition from the methane gas system to clean energy infrastructure. \nThis special 1.5 hour BDC Presents offers a synthesizing national perspective on the regulatory proceedings\, economic analyses\, and equitable energy policies central to designing the future of gas. \nSpeakers: \n\n	Kristin George Bagdanov\, PhD (BDC)\n	Joe Dammel (RMI)\n	Dorie Seavey\, PhD (Groundwork Data)\n	Morgan Edwards\, PhD (University of Wisconsin\, Madison)
URL:https://buildingdecarb.org/event/bdc-presents-future-of-gas
CATEGORIES:BDC Presents
ATTACH;FMTTYPE=image/png:https://buildingdecarb.org/wp-content/uploads/Future-of-Gas-1.png
LOCATION:https://buildingdecarb-org.zoom.us/webinar/register/WN_IygLWGmrScmwHN0-HTYWEg?_ics=1723658724255&irclickid=~fjnjegc-~1YRSPLFEFLRIzAwBvABxCxuonqyzoplidb4UNGCuli-&_gl=1*1wkgrs4*_gcl_aw*R0NMLjE3MjEwNTIwNjIuQ2owS0NRandrZE8wQmhEeEFSSXNBTmtOY3JlcEZhSjBmMm5EVlJhZ1hBejZpaVlhSV80N0ZHemprVkdJTWNRekxGT1d1X2U1dU9BNV83QWFBbHZvRUFMd193Y0I.*_gcl_au*MTA5MDA5Mzc5NC4xNzIxMTU3NTA5*_ga*NzQzMjM5MTMzLjE2OTQ1MjIwODQ.*_ga_L8TBF28DDX*MTcyMzY1ODI3OC40Ni4xLjE3MjM2NTg4MzYuMC4wLjA.&_ga=2.144532850.650975672.1723577401-743239133.1694522084&_gac=1.258521720.1721052052.Cj0KCQjwkdO0BhDxARIsANkNcrepFaJ0f2nDVRagXAz6iiYaI_47FGzjkVGIMcQzLFOWu_e5uOA5_7AaAlvoEALw_wcB#/registration
END:VEVENT
END:VCALENDAR