BEGIN:VCALENDAR
VERSION:2.0
PRODID:-//Building Decarbonization Coalition - ECPv6.3.3.1//NONSGML v1.0//EN
CALSCALE:GREGORIAN
METHOD:PUBLISH
X-WR-CALNAME:Building Decarbonization Coalition
X-ORIGINAL-URL:https://buildingdecarb.org
X-WR-CALDESC:Events for Building Decarbonization Coalition
REFRESH-INTERVAL;VALUE=DURATION:PT1H
X-Robots-Tag:noindex
X-PUBLISHED-TTL:PT1H
BEGIN:VTIMEZONE
TZID:America/New_York
BEGIN:DAYLIGHT
TZOFFSETFROM:-0500
TZOFFSETTO:-0400
TZNAME:EDT
DTSTART:20240310T070000
END:DAYLIGHT
BEGIN:STANDARD
TZOFFSETFROM:-0400
TZOFFSETTO:-0500
TZNAME:EST
DTSTART:20241103T060000
END:STANDARD
END:VTIMEZONE
BEGIN:VEVENT
DTSTART;TZID=America/New_York:20241008T130000
DTEND;TZID=America/New_York:20241008T140000
DTSTAMP:20260423T052524
CREATED:20240821T214516Z
LAST-MODIFIED:20240919T193550Z
UID:10000056-1728392400-1728396000@buildingdecarb.org
SUMMARY:New York National Policy Call
DESCRIPTION:Today\, environmental advocacy organizations\, utilities\, unions\, and other building decarbonization stakeholders are working to shape the implementation of several New York neighborhood-scale zero-emission thermal energy network projects.  \n\nOn October 8th we invite you to join Allison Considine from BDC\, Commissioner Jeanette Moy from the New York State Office of General Services\, Jessica Azulay from the Alliance for a Green Economy (AGREE)\, Greg Koumoullos from Con Edison\, and Brett Thomason from the Enterprise Association of Steamfitters Local 638 as they explore the progress New York is making on the development of utility and non-utility thermal energy networks\, and the opportunities and challenges that lie ahead for New York’s neighborhood-scale transition to clean heating and cooling.
URL:https://buildingdecarb.org/event/new-york-national-policy-call
CATEGORIES:National Policy Calls
ATTACH;FMTTYPE=image/jpeg:https://buildingdecarb.org/wp-content/uploads/BDC_New-York.jpg
LOCATION:https://buildingdecarb-org.zoom.us/meeting/register/tZYud--urTIrGtVi8u1GXonfa99SepirAEhL
END:VEVENT
END:VCALENDAR