BEGIN:VCALENDAR
VERSION:2.0
PRODID:-//Building Decarbonization Coalition - ECPv6.3.3.1//NONSGML v1.0//EN
CALSCALE:GREGORIAN
METHOD:PUBLISH
X-WR-CALNAME:Building Decarbonization Coalition
X-ORIGINAL-URL:https://buildingdecarb.org
X-WR-CALDESC:Events for Building Decarbonization Coalition
REFRESH-INTERVAL;VALUE=DURATION:PT1H
X-Robots-Tag:noindex
X-PUBLISHED-TTL:PT1H
BEGIN:VTIMEZONE
TZID:America/Los_Angeles
BEGIN:DAYLIGHT
TZOFFSETFROM:-0800
TZOFFSETTO:-0700
TZNAME:PDT
DTSTART:20240310T100000
END:DAYLIGHT
BEGIN:STANDARD
TZOFFSETFROM:-0700
TZOFFSETTO:-0800
TZNAME:PST
DTSTART:20241103T090000
END:STANDARD
END:VTIMEZONE
BEGIN:VEVENT
DTSTART;TZID=America/Los_Angeles:20241114T103000
DTEND;TZID=America/Los_Angeles:20241114T113000
DTSTAMP:20260422T215002
CREATED:20241030T200255Z
LAST-MODIFIED:20241112T160722Z
UID:10000086-1731580200-1731583800@buildingdecarb.org
SUMMARY:BDC Presents: Holiday Prep Rally
DESCRIPTION:Entertaining Tips & Tricks in an All Electric Kitchen \nGet “inducted” into our electric kitchens fan club! Join host Matt Rusteika\, and our own Chefluencer\, Rachelle Boucher as they “talk turkey” in more ways than one with a live induction cooking celebration and information session. They’ll be in an induction-centered kitchen with guests  discussing and demonstrating the wonders of today’s electric kitchens along with holiday prep and cooking tips. \n\n	The Heart of the Building Decarbonization Movement\n	Induction 101 and Appliance Show & Tell\n	Reheat\, Melt\, Simmer\, Boil\, Sear: Making quick work of holiday entertaining\n	Featuring: Green Beans with Thyme & Wild Mushrooms (plus holiday entertaining tips)\n\nThis will be a special BDC Presents with a live studio audience!
URL:https://buildingdecarb.org/event/bdc-presents-holiday-prep-rally
CATEGORIES:BDC Presents
ATTACH;FMTTYPE=image/png:https://buildingdecarb.org/wp-content/uploads/BDC-Presents-Switch-is-On-1-1.png
LOCATION:https://buildingdecarb-org.zoom.us/webinar/register/WN_cM3EPepgSnaDZ3llASXZ3g
END:VEVENT
END:VCALENDAR