BEGIN:VCALENDAR
VERSION:2.0
PRODID:-//Building Decarbonization Coalition - ECPv6.3.3.1//NONSGML v1.0//EN
CALSCALE:GREGORIAN
METHOD:PUBLISH
X-ORIGINAL-URL:https://buildingdecarb.org
X-WR-CALDESC:Events for Building Decarbonization Coalition
REFRESH-INTERVAL;VALUE=DURATION:PT1H
X-Robots-Tag:noindex
X-PUBLISHED-TTL:PT1H
BEGIN:VTIMEZONE
TZID:America/New_York
BEGIN:DAYLIGHT
TZOFFSETFROM:-0500
TZOFFSETTO:-0400
TZNAME:EDT
DTSTART:20250309T070000
END:DAYLIGHT
BEGIN:STANDARD
TZOFFSETFROM:-0400
TZOFFSETTO:-0500
TZNAME:EST
DTSTART:20251102T060000
END:STANDARD
END:VTIMEZONE
BEGIN:VEVENT
DTSTART;TZID=America/New_York:20250225T130000
DTEND;TZID=America/New_York:20250225T140000
DTSTAMP:20260423T201350
CREATED:20241219T222041Z
LAST-MODIFIED:20250212T220224Z
UID:10000104-1740488400-1740492000@buildingdecarb.org
SUMMARY:Maryland National Policy Call
DESCRIPTION:Join us on February 25th for BDC’s national policy call featuring Maryland. Hosted by BDC’s Brian Jenkins\, Senior Regional Manager\, Mid-Atlantic\, this call will dive into the landscape of Maryland’s building decarbonization policy. Panelists Lauren Urbanek of Baltimore Gas & Electric\, Mark Stewart of the Maryland Department of the Environment\, and Ashita Gona of RMI will offer insights and lessons learned from Maryland’s efforts to decarbonize its buildings that will benefit advocates and stakeholders across the U.S.
URL:https://buildingdecarb.org/event/maryland-national-policy-call
CATEGORIES:National Policy Calls
ATTACH;FMTTYPE=image/png:https://buildingdecarb.org/wp-content/uploads/BDC-National-Policy-Call-Maryland1.png
LOCATION:https://buildingdecarb-org.zoom.us/meeting/register/tZEvcOyqqTgpHNzazEZR8hDXBxl8Bw26xked#/registration
END:VEVENT
END:VCALENDAR