BEGIN:VCALENDAR
VERSION:2.0
PRODID:-//Building Decarbonization Coalition - ECPv6.3.3.1//NONSGML v1.0//EN
CALSCALE:GREGORIAN
METHOD:PUBLISH
X-ORIGINAL-URL:https://buildingdecarb.org
X-WR-CALDESC:Events for Building Decarbonization Coalition
REFRESH-INTERVAL;VALUE=DURATION:PT1H
X-Robots-Tag:noindex
X-PUBLISHED-TTL:PT1H
BEGIN:VTIMEZONE
TZID:America/Los_Angeles
BEGIN:DAYLIGHT
TZOFFSETFROM:-0800
TZOFFSETTO:-0700
TZNAME:PDT
DTSTART:20250309T100000
END:DAYLIGHT
BEGIN:STANDARD
TZOFFSETFROM:-0700
TZOFFSETTO:-0800
TZNAME:PST
DTSTART:20251102T090000
END:STANDARD
END:VTIMEZONE
BEGIN:VEVENT
DTSTART;TZID=America/Los_Angeles:20250520T100000
DTEND;TZID=America/Los_Angeles:20250520T110000
DTSTAMP:20260423T071918
CREATED:20250228T231207Z
LAST-MODIFIED:20250428T211037Z
UID:10000137-1747735200-1747738800@buildingdecarb.org
SUMMARY:California Policy Call - May
DESCRIPTION:We invite you to join us for our monthly discussion of building decarbonization policy in California! Learn about legislation\, regulation\, and what’s on the climate policy horizon as our coalition works to advance neighborhood-scale decarbonization\, statewide healthy air standards\, and energy affordability. \nThe Building Decarbonization Coalition (BDC) is committed to fostering a collaborative and inclusive environment where ideas can be freely shared and exchanged. To uphold this commitment\, all participants in BDC activities are expected to contribute to a welcoming\, respectful\, and equitable atmosphere free from discrimination\, harassment\, or retaliation. Read the full policy here.
URL:https://buildingdecarb.org/event/california-policy-call-3-4
CATEGORIES:BDC,California Policy Call
ATTACH;FMTTYPE=image/jpeg:https://buildingdecarb.org/wp-content/uploads/Neighborhoods-Capitol_BDC.jpg
LOCATION:https://buildingdecarb-org.zoom.us/meeting/register/tZ0ocumgpjIqG9ALvelbdTy7WDlW79OA4Qym#/registration
END:VEVENT
BEGIN:VEVENT
DTSTART;TZID=America/Los_Angeles:20250520T170000
DTEND;TZID=America/Los_Angeles:20250520T190000
DTSTAMP:20260423T071918
CREATED:20250320T193640Z
LAST-MODIFIED:20250508T211634Z
UID:10000118-1747760400-1747767600@buildingdecarb.org
SUMMARY:Electric Happy Hour!
DESCRIPTION:Join us for the 3rd annual Electric Happy Hour!\nElectric Happy Hour! is back and at the historic Sutter Club this year. Join Assemblywoman Cottie Petrie-Norris and our all-star team of chefs––Kimberly Ayala\, Rachelle Boucher\, and Lisa Pinckney-Wong––for the live cooking event of the year!  \nIndulge in incredible Latin American food cooked on super-powered induction\, stop by our chocolate dipping station\, and discover the wonders of home electrification. We’ll be showcasing the world’s first energy storage-equipped induction range by Copper. You’ll also have the opportunity to explore Daikin’s highly efficient heat pump and learn why heat pumps are in such high demand for home heating and cooling. \nThe event is co-hosted by Assemblywoman Cottie Petrie-Norris\, the Building Decarbonization Coalition\, the California Latino Capitol Association Foundation\, Daikin\, and Copper.  \nWe can’t wait to see you!\n\n \nMeet Our Featured Chefs\nFeatured Chef: Kimberly Ayala is a Salvadoran American private chef and media personality who specializes in induction cooking and education for builders and designers. Born in Los Angeles\, her culinary passion ignited in her mother’s kitchen with baking and pastries. Kimberly’s take on Latin American classics\, upgraded by induction\, make her a Chefluencer favorite!\n\nFeatured Chef: Lisa Pinckney-Wong is Culinary Events Manager at Copper and a prominent\, award-winning private chef and restaurateur who has cooked in the White House under President Barack Obama. Lisa’s work with Copper brings so much to the table\, inspiring everyone including celebrity chef Samin Nosrat to switch to induction! \n\nEmcee: BDC’s own Chef Rachelle Boucher — induction cooking super-fan\, leader of the BDC’s Chefluencer Program\, and media personality — will be our electric and magnetic host for the evening. \n  \nAdditional Information\nAttendance at this event by a public official will constitute acceptance of a reportable gift. \nSutter Club Suggested Attire: Business \nPlease be advised that by attending this event you give the Building Decarbonization Coalition the right to use photographs and/or video/audio recordings taken of you during the event for educational\, marketing\, or promotional purposes. If you do not wish to appear in photographs or be recorded\, please contact an event administrator. \n  \nMeetings Conduct Policy\nThe Building Decarbonization Coalition (BDC) is committed to fostering a collaborative and inclusive environment where ideas can be freely shared and exchanged. To uphold this commitment\, all participants in BDC activities are expected to contribute to a welcoming\, respectful\, and equitable atmosphere free from discrimination\, harassment\, or retaliation. Read the full policy here. \n  \nGet in touch\nIf you have a question about the event\, please contact Marycella Dumlao.
URL:https://buildingdecarb.org/event/electric-happy-hour-2025
LOCATION:The Sutter Club\, 1220 9th Street\, Sacramento\, CA\, 95814\, United States
CATEGORIES:Invite Only
ATTACH;FMTTYPE=image/png:https://buildingdecarb.org/wp-content/uploads/Electric-Happy-Hour-2025-3.png
END:VEVENT
END:VCALENDAR