BEGIN:VCALENDAR
VERSION:2.0
PRODID:-//Building Decarbonization Coalition - ECPv6.3.3.1//NONSGML v1.0//EN
CALSCALE:GREGORIAN
METHOD:PUBLISH
X-ORIGINAL-URL:https://buildingdecarb.org
X-WR-CALDESC:Events for Building Decarbonization Coalition
REFRESH-INTERVAL;VALUE=DURATION:PT1H
X-Robots-Tag:noindex
X-PUBLISHED-TTL:PT1H
BEGIN:VTIMEZONE
TZID:America/New_York
BEGIN:DAYLIGHT
TZOFFSETFROM:-0500
TZOFFSETTO:-0400
TZNAME:EDT
DTSTART:20250309T070000
END:DAYLIGHT
BEGIN:STANDARD
TZOFFSETFROM:-0400
TZOFFSETTO:-0500
TZNAME:EST
DTSTART:20251102T060000
END:STANDARD
END:VTIMEZONE
BEGIN:VEVENT
DTSTART;TZID=America/New_York:20250626T130000
DTEND;TZID=America/New_York:20250626T140000
DTSTAMP:20260424T013747
CREATED:20250527T165931Z
LAST-MODIFIED:20250603T181904Z
UID:10000154-1750942800-1750946400@buildingdecarb.org
SUMMARY:Webinar: The Thermal Energy Networks Legislative Guidebook
DESCRIPTION:How States\, Cities and Utilities Can Advance Neighborhood-Scale Clean Heating and Cooling \nHeating and cooling buildings consumes 43% of all energy used in the United States. To decarbonize our buildings\, we need new technologies and new laws.  \nInterest is growing in thermal energy networks (TENs)\, systems of water-filled pipes that can replace gas pipelines to deliver combustion-free heating and cooling to neighborhoods. Since 2021\, eight states have passed legislation enabling regulated utilities to pilot TENs. In 2025\, several states introduced additional TENs bills\, developing new legal models of delivering energy equitably\, affordably\, and at scale. \nThe Institute for Energy and the Environment at the Vermont Law and Graduate School and the Building Decarbonization Coalition created a guidebook for states crafting TENs-enabling legislation. This webinar introduces the guidebook and walks through lessons and studies from existing TENs laws.  \nWe’ll explore: \n\n	What are TENs\, and why should we pass laws enabling them?\n	How can legislation inform and shape pilots to ensure they are equitable\, affordable\, and effective?\n	What legislation and regulation is required for a system-wide transition to clean heating and cooling with TENs?\n\nSpeakers:  \nPanelist: Eduardo Bakai\, Global Energy Fellow\, Institute for Energy and the Environment\, Vermont Law and Graduate School. Eduardo’s research revolves around state laws and regulations supporting the neighborhood-scale use of TENs and its multiple associated benefits\, with a focus on available ownership models.   \nPanelist: Lawrence Garber\, Interim Associate Director of Policy Acceleration\, Building Decarbonization Coalition. Lawrence synthesizes policy trends and\, in collaboration with state-based coalitions\, translates opportunities to multiple audiences across the building sector to accelerate equitable building decarbonization policy adoption at scale. \nModerator: Ania Camargo Cortés\, Associate Director\, Thermal Networks\, Building Decarbonization Coalition. Ania leads the BDC’s work on thermal energy networks (TENs). She guides coalitions on legislative and regulatory strategy\, education and outreach\, and workforce development. \nHost: Mark James\, Interim Director of the Institute for Energy and the Environment and Associate Professor in the Maverick Lloyd School of the Environment at Vermont Law and Graduate School. Mark leads the IEE’s energy program. His research focuses on deploying regulatory and policy tools to advance a just clean energy transition including community benefit agreements\, enhanced fiscal accountability for polluters\, and equitable governance systems.  \nWho Should Attend? \nState and local policymakers\, elected officials and legislative staff\, utility regulators\, energy\, climate and environmental justice advocates\, utility representatives\, labor union representatives\, and anyone interested in the laws to support neighborhood-scale clean energy.
URL:https://buildingdecarb.org/event/thermal-energy-networks-a-legislative-guidebook
ATTACH;FMTTYPE=image/png:https://buildingdecarb.org/wp-content/uploads/Webinar_TENs-Guidebook_June-2.png
LOCATION:https://connect.vermontlaw.edu/events-calendar?cid=2&ceid=1330&cerid=0&cdt=6%2f26%2f2025
END:VEVENT
END:VCALENDAR