BEGIN:VCALENDAR
VERSION:2.0
PRODID:-//Building Decarbonization Coalition - ECPv6.3.3.1//NONSGML v1.0//EN
CALSCALE:GREGORIAN
METHOD:PUBLISH
X-WR-CALNAME:Building Decarbonization Coalition
X-ORIGINAL-URL:https://buildingdecarb.org
X-WR-CALDESC:Events for Building Decarbonization Coalition
REFRESH-INTERVAL;VALUE=DURATION:PT1H
X-Robots-Tag:noindex
X-PUBLISHED-TTL:PT1H
BEGIN:VTIMEZONE
TZID:America/New_York
BEGIN:DAYLIGHT
TZOFFSETFROM:-0500
TZOFFSETTO:-0400
TZNAME:EDT
DTSTART:20250309T070000
END:DAYLIGHT
BEGIN:STANDARD
TZOFFSETFROM:-0400
TZOFFSETTO:-0500
TZNAME:EST
DTSTART:20251102T060000
END:STANDARD
END:VTIMEZONE
BEGIN:VEVENT
DTSTART;TZID=America/New_York:20250929T083000
DTEND;TZID=America/New_York:20250929T120000
DTSTAMP:20260423T200034
CREATED:20250828T202151Z
LAST-MODIFIED:20250922T180429Z
UID:10000155-1759134600-1759147200@buildingdecarb.org
SUMMARY:Cash In On Clean Energy: Free Event for HVAC Contractors Who Do Work in Maryland
DESCRIPTION:The transition to clean\, electric heating is already underway! Are you ready to grow your business with it? \nJoin us for a powerful FREE in-person session focused modern on zero-emission heating equipment and how YOU can be part of Maryland’s clean energy future. \nDate: Monday\, September 29\nTime: 8:30 AM – 12:00 PM\nLocation: SMC Campus Center\, UMB\nElm Room A\, Second Floor\n621 W. Lombard. Baltimore\, MD 21201\nCoffee and light breakfast included! \nThis half-day event is designed to equip Maryland contractors with:\n\n	The latest innovations in heat pump and electric heating technologies\n	A clear understanding of state and utility incentives available to support your work\n	Insights into Maryland’s upcoming Clean Heat Standard\n	A platform to share your input directly with state leaders\n	Networking opportunities with energy agencies\, manufacturers\, and fellow contractors\n\nYou will also have the opportunity to hear from current Maryland heat pump owners about why they are encouraging their friends to join them and switch to clean heat\, as well as why other Maryland HVAC contractors believe clean heat is an exciting business opportunity. \nIn addition\, this session will provide you with a unique opportunity to meet in person with staff from the Maryland Department of the Environment and provide them with your feedback on the state’s new Clean Heat rules and ZHES. \nThis event is brought to you by the Green & Healthy Homes Initiative and the Building Decarbonization Coalition.  \nFree YETI coffee tumbler for first 50 HVAC contractors in the door! \n \n  \nThe Building Decarbonization Coalition (BDC) is committed to fostering a collaborative and inclusive environment where ideas can be freely shared and exchanged. To uphold this commitment\, all participants in BDC activities are expected to contribute to a welcoming\, respectful\, and equitable atmosphere free from discrimination\, harassment\, or retaliation. See full events conduct policy. \n  \n 
URL:https://buildingdecarb.org/event/cash-in-clean-energy-maryland-hvac
LOCATION:Lexington Market\, 112 N. Eutaw St.\, Baltimore\, MD\, 21201\, United States
CATEGORIES:BDC
ATTACH;FMTTYPE=image/png:https://buildingdecarb.org/wp-content/uploads/Cash-in-on-Clean-Energy-HVAC-MD-2.png
END:VEVENT
END:VCALENDAR