BEGIN:VCALENDAR
VERSION:2.0
PRODID:-//Building Decarbonization Coalition - ECPv6.3.3.1//NONSGML v1.0//EN
CALSCALE:GREGORIAN
METHOD:PUBLISH
X-ORIGINAL-URL:https://buildingdecarb.org
X-WR-CALDESC:Events for Building Decarbonization Coalition
REFRESH-INTERVAL;VALUE=DURATION:PT1H
X-Robots-Tag:noindex
X-PUBLISHED-TTL:PT1H
BEGIN:VTIMEZONE
TZID:America/Los_Angeles
BEGIN:DAYLIGHT
TZOFFSETFROM:-0800
TZOFFSETTO:-0700
TZNAME:PDT
DTSTART:20250309T100000
END:DAYLIGHT
BEGIN:STANDARD
TZOFFSETFROM:-0700
TZOFFSETTO:-0800
TZNAME:PST
DTSTART:20251102T090000
END:STANDARD
END:VTIMEZONE
BEGIN:VEVENT
DTSTART;TZID=America/Los_Angeles:20251002T100000
DTEND;TZID=America/Los_Angeles:20251002T120000
DTSTAMP:20260423T182647
CREATED:20250922T174505Z
LAST-MODIFIED:20250922T174850Z
UID:10000156-1759399200-1759406400@buildingdecarb.org
SUMMARY:Legislator Briefing—Utility Thermal Energy Network Projects
DESCRIPTION:RSVP here to join the UpgradeNY collaborative and representatives from Orange & Rockland Utilities\, National Grid\, and NYSEG on October 2nd at 10 am for a virtual Legislator Briefing on Utility Thermal Energy Network Projects in the upstate region via Zoom.
URL:https://buildingdecarb.org/event/legislator-briefing-utility-tens-projects
CATEGORIES:Invite Only
ATTACH;FMTTYPE=image/png:https://buildingdecarb.org/wp-content/uploads/Upgrade-NY-Logo-Vertical-1_small.png
LOCATION:https://buildingdecarb-org.zoom.us/meeting/register/hbYkN9irQnC6220z4_605g#/registration
END:VEVENT
END:VCALENDAR