BEGIN:VCALENDAR
VERSION:2.0
PRODID:-//Building Decarbonization Coalition - ECPv6.3.3.1//NONSGML v1.0//EN
CALSCALE:GREGORIAN
METHOD:PUBLISH
X-WR-CALNAME:Building Decarbonization Coalition
X-ORIGINAL-URL:https://buildingdecarb.org
X-WR-CALDESC:Events for Building Decarbonization Coalition
REFRESH-INTERVAL;VALUE=DURATION:PT1H
X-Robots-Tag:noindex
X-PUBLISHED-TTL:PT1H
BEGIN:VTIMEZONE
TZID:America/Los_Angeles
BEGIN:DAYLIGHT
TZOFFSETFROM:-0800
TZOFFSETTO:-0700
TZNAME:PDT
DTSTART:20260308T100000
END:DAYLIGHT
BEGIN:STANDARD
TZOFFSETFROM:-0700
TZOFFSETTO:-0800
TZNAME:PST
DTSTART:20261101T090000
END:STANDARD
END:VTIMEZONE
BEGIN:VEVENT
DTSTART;TZID=America/Los_Angeles:20260417T110000
DTEND;TZID=America/Los_Angeles:20260417T130000
DTSTAMP:20260422T150841
CREATED:20260319T160035Z
LAST-MODIFIED:20260406T181836Z
UID:10000163-1776423600-1776430800@buildingdecarb.org
SUMMARY:Chill Out with Heat Pumps | Sacramento Heat Pump Week Flagship Event
DESCRIPTION:Chill Out with Heat Pumps | Sacramento Heat Pump Week Flagship Event\nJoin us on the Capitol Lawn for a relaxed Friday afternoon of ice cream and espresso. Policymakers\, industry leaders\, and community members are all welcome to join\, no RSVP required! \nLearn how heat pumps are already delivering safe\, affordable\, and reliable heating and cooling for Californians – and what is needed to accelerate adoption statewide to meet the state’s climate and heat pump targets. \nStop by for a midday pick-me-up\, connect with peers\, and explore how this proven technology is shaping California’s clean energy future. \nWhat to Expect\n\n	Complimentary ice cream\, iced coffee and light refreshments on the Capitol West Lawn\n	Informal\, small-group conversations at high-top tables\n	Manufacturer and utility exhibits and hands-on engagement\n	Opportunities to connect with industry\, peers\, and community\n\n  \nAdditional Information\nStop by\, grab a scoop\, join the conversation. No RSVP required\, just drop in. \nAttendance at this event by a public official will constitute acceptance of a reportable gift. \n  \nMeetings Conduct Policy\nThe Building Decarbonization Coalition (BDC) is committed to fostering a collaborative and inclusive environment where ideas can be freely shared and exchanged. To uphold this commitment\, all participants in BDC activities are expected to contribute to a welcoming\, respectful\, and equitable atmosphere free from discrimination\, harassment\, or retaliation. Read the full policy here. \n  \nGet in touch\nIf you have a question about the event\, please contact Marycella Dumlao.
URL:https://buildingdecarb.org/event/sacramento-flagship-hpw
LOCATION:Sacramento State Capitol West Lawn\, 1315 10th Street\, Sacramento\, 95814\, United States
CATEGORIES:Invite Only
ATTACH;FMTTYPE=image/png:https://buildingdecarb.org/wp-content/uploads/SIO-HPW-event-thumbnail-2.png
END:VEVENT
END:VCALENDAR