BEGIN:VCALENDAR
VERSION:2.0
PRODID:-//Building Decarbonization Coalition - ECPv6.3.3.1//NONSGML v1.0//EN
CALSCALE:GREGORIAN
METHOD:PUBLISH
X-ORIGINAL-URL:https://buildingdecarb.org
X-WR-CALDESC:Events for Building Decarbonization Coalition
REFRESH-INTERVAL;VALUE=DURATION:PT1H
X-Robots-Tag:noindex
X-PUBLISHED-TTL:PT1H
BEGIN:VTIMEZONE
TZID:America/Los_Angeles
BEGIN:DAYLIGHT
TZOFFSETFROM:-0800
TZOFFSETTO:-0700
TZNAME:PDT
DTSTART:20240310T100000
END:DAYLIGHT
BEGIN:STANDARD
TZOFFSETFROM:-0700
TZOFFSETTO:-0800
TZNAME:PST
DTSTART:20241103T090000
END:STANDARD
END:VTIMEZONE
BEGIN:VEVENT
DTSTART;TZID=America/Los_Angeles:20240306T083000
DTEND;TZID=America/Los_Angeles:20240306T123000
DTSTAMP:20260419T041505
CREATED:20240408T222040Z
LAST-MODIFIED:20240408T222040Z
UID:10000005-1709713800-1709728200@buildingdecarb.org
SUMMARY:The NY Thermal Energy Networks Summit: Scale up! Decarbonizing NY’s Neighborhoods
DESCRIPTION:The Building Decarbonization Coalition\, NYS Pipe Trades Association and City & State NY are proud to present The NY Thermal Energy Networks Summit: Scale up! Decarbonizing NY’s Neighborhoods at the Albany Capital Center the morning of March 6th.\n\nThe NY Thermal Energy Networks Summit will bring together industry experts\, labor leaders\, policymakers\, and elected officials to discuss how Thermal Energy Networks (TENs) work\, where and how they can be deployed in NY\, and why this type of neighborhood-scale building decarbonization solution will play a key role in helping the state meet its emission reduction mandates under the CLCPA. TENs provide efficient\, affordable\, and reliable clean heating & cooling to entire neighborhoods through a shared network of water pipes that transfer heat in and out of buildings. These neighborhood-scale systems allow buildings to exchange heat with several energy sources\, such as lakes and rivers\, energy intensive buildings\, wastewater systems\, or the stable temperature of the earth. These systems will allow New York to decarbonize its buildings and grow its clean heat economy\, while protecting existing and creating new union jobs. \n\nNew York has positioned itself to be a national leader in using TENs with utility projects for several of these neighborhood-scale decarbonization infrastructure projects proposed for development across the state. Join your colleagues on March 6th to network and discuss how New York can use Thermal Energy Networks to decarbonize its buildings at scale\, support well-paid union careers\, and ensure all communities have equitable access to affordable clean energy.
URL:https://buildingdecarb.org/event/the-ny-thermal-energy-networks-summit-scale-up-decarbonizing-nys-neighborhoods
CATEGORIES:BDC
ATTACH;FMTTYPE=image/jpeg:https://buildingdecarb.org/wp-content/uploads/GFQf0emXQAA7p9q.jpeg
LOCATION:https://www.cityandstateny.com/feature/2024-The-NY-Thermal-Energy-Networks-Summit/
END:VEVENT
END:VCALENDAR